BEGIN:VCALENDAR
VERSION:2.0
PRODID:-//Lagerhalle Osnabrück - ECPv6.13.2.1//NONSGML v1.0//EN
CALSCALE:GREGORIAN
METHOD:PUBLISH
X-WR-CALNAME:Lagerhalle Osnabrück
X-ORIGINAL-URL:https://www.lagerhalle-osnabrueck.de/content
X-WR-CALDESC:Veranstaltungen für Lagerhalle Osnabrück
REFRESH-INTERVAL;VALUE=DURATION:PT1H
X-Robots-Tag:noindex
X-PUBLISHED-TTL:PT1H
BEGIN:VTIMEZONE
TZID:Europe/Berlin
BEGIN:DAYLIGHT
TZOFFSETFROM:+0100
TZOFFSETTO:+0200
TZNAME:CEST
DTSTART:20260329T010000
END:DAYLIGHT
BEGIN:STANDARD
TZOFFSETFROM:+0200
TZOFFSETTO:+0100
TZNAME:CET
DTSTART:20261025T010000
END:STANDARD
END:VTIMEZONE
BEGIN:VEVENT
DTSTART;TZID=Europe/Berlin:20260225T190000
DTEND;TZID=Europe/Berlin:20260225T210000
DTSTAMP:20260420T110006
CREATED:20251215T125604Z
LAST-MODIFIED:20260223T125537Z
UID:36785-1772046000-1772053200@www.lagerhalle-osnabrueck.de
SUMMARY:AUSVERKAUFT: Thomas Schaaf: Eine Ikone der Bundesliga
DESCRIPTION:Lesung mit Double-Trainer & Werder-Legende Thomas Schaaf \nDie DeichStube präsentiert in Kooperation mit dem Werder Bremen-Fanclub Ahoi-Crew 05 Osnabrück einen besonderen Abend für alle Fußballfans: Am 25. Februar 2026 um 19 Uhr sind Thomas Schaaf und Co-Autor Daniel Cottäus zu Gast in der Lagerhalle in Osnabrück. \nThomas Schaaf zählt zu den erfolgreichsten Persönlichkeiten der Werder-Historie:\n– Double-Trainer 2004 – Deutscher Meister & DFB-Pokalsieger\n– Deutscher Meister 1988 (als Spieler)\n– DFB-Pokalsieger 1991 & 1994\n– Europapokalsieger der Pokalsieger 1992\n– DFB-Pokalsieger 1999 & 2004\n– Über 40 Jahre ununterbrochen bei Werder Bremen aktiv \nIm Mittelpunkt des Abends steht vor allem das unvergessene Double 2004\, das bis heute als Höhepunkt von Schaafs Trainerlaufbahn gilt. \nSchaaf und Cottäus lesen aus der Biografie „Thomas Schaaf: Eine Ikone der Bundesliga“ und geben humorvolle\, emotionale und spannende Einblicke in Jahrzehnte Fußballgeschichte. \nTickets gibt es direkt bei der Ahoi-Crew 05:\ntickets@ahoi-crew.deVorverkauf: 28\,00 € | 22\,00 €Abendkasse: 30\,00 € | 25\,00 € \nbestuhlt\, freie Platzwahl
URL:https://www.lagerhalle-osnabrueck.de/content/veranstaltungen/thomas-schaaf-eine-ikone-der-bundesliga/
LOCATION:Saal
CATEGORIES:alle Termine,Lesung,Sport,Startseite
ATTACH;FMTTYPE=image/jpeg:https://www.lagerhalle-osnabrueck.de/content/wp-content/uploads/2025/12/2026_02_25_thomasschaaf_header.jpg
END:VEVENT
END:VCALENDAR