BEGIN:VCALENDAR
VERSION:2.0
PRODID:-//Lagerhalle Osnabrück - ECPv6.13.2.1//NONSGML v1.0//EN
CALSCALE:GREGORIAN
METHOD:PUBLISH
X-WR-CALNAME:Lagerhalle Osnabrück
X-ORIGINAL-URL:https://www.lagerhalle-osnabrueck.de/content
X-WR-CALDESC:Veranstaltungen für Lagerhalle Osnabrück
REFRESH-INTERVAL;VALUE=DURATION:PT1H
X-Robots-Tag:noindex
X-PUBLISHED-TTL:PT1H
BEGIN:VTIMEZONE
TZID:Europe/Berlin
BEGIN:DAYLIGHT
TZOFFSETFROM:+0100
TZOFFSETTO:+0200
TZNAME:CEST
DTSTART:20250330T010000
END:DAYLIGHT
BEGIN:STANDARD
TZOFFSETFROM:+0200
TZOFFSETTO:+0100
TZNAME:CET
DTSTART:20251026T010000
END:STANDARD
END:VTIMEZONE
BEGIN:VEVENT
DTSTART;TZID=Europe/Berlin:20251004T200000
DTEND;TZID=Europe/Berlin:20251004T223000
DTSTAMP:20260423T110117
CREATED:20250402T092851Z
LAST-MODIFIED:20251001T134544Z
UID:34285-1759608000-1759617000@www.lagerhalle-osnabrueck.de
SUMMARY:ABGESAGT: Ronja Maltzahn & Fede
DESCRIPTION:[vc_row][vc_column][vc_column_text]Die Veranstaltung wurde krankheitsbedingt abgesagt. Bereits gekaufte Karten werden rückabgewickelt. \n  \nDIE WELT BRAUCHT NOCH MEHR RÄUBERTÖCHTER. \nDie Cellistin und Songpoetin hat vor sieben Jahren in Italien ihren Musikpartner Fede aus Argentinien kennengelernt\, seitdem folgen die beiden den Melodien des Lebens rund um den Globus\, sammeln Inspiration und übersetzen sie zu Songs in verschiedenen Sprachen. Mit Cello\, Ukulele\, Bass\, mehrstimmigem Gesang\, sphärischen Synth-Klängen\, Video-Projektionen\, Geschichten und Poesie erschaffen sie ein Gesamtkunstwerk auf der Bühne\, das sowohl zum Nachdenken und Träumen als auch zum Mitsingen und Tanzen einlädt. \nUdo Lindenberg hat sie mit dem Panikpreis für deutsche Newcomer ausgezeichnet und Ronja durfte das “Cello” mit ihm auf der Bühne mitspielen. \nDas neue Album 2025 “FLOW” verbindet 12 Songs mit einer Bilderbuchgeschichte\, die von der ukrainischen Künstlerin Tetiana SheWolf illustriert wurde\, mit dem Motto MAKE ART NOT WAR. \nDIE MUSIK.\nDas erste musikalische Kapitel von BUTTERFLY AND WOLF. WOLF steht für alles Laute und Kraftvolle in ihrem Leben\, ihr Rudel\, ihr Team\, das WIR. Im Kontrast zu allem Leisen\, Zarten\, nach innen Gekehrten\, zutiefst Persönlichen. Ronjas feine Stimme wird von großen Soundkulissen eingerahmt\, elektronische Synth-Vocoder prallen auf orchestrale Höhepunkte mit vielstimmigem Chor. Eine Prise Billie Eilish und Auroras elfenhafte Handschrift\, gepaart mit der Orchesterweite von Hans Zimmer. \nDER BILDBAND.\n12 Songs. 85 handgemalte Bilder. Ein Buch. Eine Geschichte\, die von Freundschaft und Zusammenhalt\, von einer inneren Kraft\, die es vermag\, uns durch die dunkelsten Zeiten im Leben zu tragen. Erinnert ihr euch an das animierte Musikvideo LIKE A WOLF von Tanya? Tetiana She Wolf. Im Februar 2022 ist der Krieg ausgebrochen\, dieser große menschliche Irrsinn\, Wahnsinn\, Unsinn. Im Februar 2025 kommt unser Werk auf die Welt\, in Gedenken an diese Schicksalswendung. Als Widmung AN DEN FRIEDEN. MAKE ART NOT WAR. \nDIE TOUR.\nLIVE präsentieren Ronja und Fede das Album auf der Bühne\, gemeinsam mit einer Vielzahl von Instrumenten\, visuellen Projektionen und Lichterspiel\, persönlichen Anekdoten und Poesie… und das wichtigste seid IHR\, ist das\, was im Raum entsteht\, wenn Menschen\nzusammenkommen und einander zuhören. Singt ihr mit? \n“Die Welt sucht bewegte Menschen um die Welt zu bewegen” \n  \nFoto: Thomas Bader \n[/vc_column_text][/vc_column][/vc_row]Vorverkauf: 22\,10 €»Online-TicketsAbendkasse: 25\,00 € | 15\,00 € \nbestuhlt\, nummerierte Plätze
URL:https://www.lagerhalle-osnabrueck.de/content/veranstaltungen/ronja-maltzahn-04-10-2025/
LOCATION:Saal
CATEGORIES:alle Termine,Konzert,Startseite
ATTACH;FMTTYPE=image/jpeg:https://www.lagerhalle-osnabrueck.de/content/wp-content/uploads/2025/04/duo-ronja-fede-by-thomas-bader.jpg
END:VEVENT
END:VCALENDAR