BEGIN:VCALENDAR
VERSION:2.0
PRODID:-//Lagerhalle Osnabrück - ECPv6.13.2.1//NONSGML v1.0//EN
CALSCALE:GREGORIAN
METHOD:PUBLISH
X-WR-CALNAME:Lagerhalle Osnabrück
X-ORIGINAL-URL:https://www.lagerhalle-osnabrueck.de/content
X-WR-CALDESC:Veranstaltungen für Lagerhalle Osnabrück
REFRESH-INTERVAL;VALUE=DURATION:PT1H
X-Robots-Tag:noindex
X-PUBLISHED-TTL:PT1H
BEGIN:VTIMEZONE
TZID:Europe/Berlin
BEGIN:DAYLIGHT
TZOFFSETFROM:+0100
TZOFFSETTO:+0200
TZNAME:CEST
DTSTART:20250330T010000
END:DAYLIGHT
BEGIN:STANDARD
TZOFFSETFROM:+0200
TZOFFSETTO:+0100
TZNAME:CET
DTSTART:20251026T010000
END:STANDARD
END:VTIMEZONE
BEGIN:VEVENT
DTSTART;TZID=Europe/Berlin:20251126T193000
DTEND;TZID=Europe/Berlin:20251126T213000
DTSTAMP:20260422T183049
CREATED:20250428T083955Z
LAST-MODIFIED:20250721T081004Z
UID:34529-1764185400-1764192600@www.lagerhalle-osnabrueck.de
SUMMARY:Manuel Andrack: Charmante Wanderungen in Europa
DESCRIPTION:Traumhaft entspannte Routen in 22 Ländern \nOb hügelige Küstenpfade\, Wege durch duftende Wälder oder idyllische Landschaften – Wanderprofi Manuel Andrack kennt die schönsten Wanderwege in Europa und beschreibt mit viel Wissen und einer Prise Humor 40 ganz unterschiedliche Routen in 22 Ländern. Perfekt für alle\, die Wanderglück in vollen Zügen erleben möchten. Lassen Sie sich gerade von kleinen\, bezaubernden Wegen überraschen und erleben Sie Natur pur\, Freiheit und erfrischende Auszeiten vom Alltag! \nManuel Andrack arbeitete lange Zeit als Redakteur beim Fernsehen und ist vielen aus der Harald-Schmidt-Show bekannt. Heute ist der geborene Kölner unter anderem als Moderator\, Redner und Autor tätig. Fernab der Bühne ist er meist auf den Wanderwegen der Republik zu finden\, quer durch Europa. Das Wandern ist seit Langem eine seiner großen Leidenschaften\, über die er bereits zahlreiche Bücher geschrieben hat. Ob rumänische Berge oder belgisches Moor: Die Vielfalt europäischer Landschaften begeistert ihn immer wieder aufs Neue. \n\nDie Veranstaltung war für den 18. November geplant und musste auf diesen Termin verschoben werden. \n Vorverkauf: 12\,00 €»Online-TicketsAbendkasse: 14\,00 € | 12\,00 € \nbestuhlt\, freie Platzwahl
URL:https://www.lagerhalle-osnabrueck.de/content/veranstaltungen/manuel-andrack-charmante-wanderungen-in-europa/
LOCATION:Spitzboden
CATEGORIES:alle Termine,Lesung,Startseite,Vortrag
ATTACH;FMTTYPE=image/jpeg:https://www.lagerhalle-osnabrueck.de/content/wp-content/uploads/2025/04/cover-charmante-wanderungen-in-europa_web.jpg
END:VEVENT
END:VCALENDAR