BEGIN:VCALENDAR
VERSION:2.0
PRODID:-//Lagerhalle Osnabrück - ECPv6.13.2.1//NONSGML v1.0//EN
CALSCALE:GREGORIAN
METHOD:PUBLISH
X-WR-CALNAME:Lagerhalle Osnabrück
X-ORIGINAL-URL:https://www.lagerhalle-osnabrueck.de/content
X-WR-CALDESC:Veranstaltungen für Lagerhalle Osnabrück
REFRESH-INTERVAL;VALUE=DURATION:PT1H
X-Robots-Tag:noindex
X-PUBLISHED-TTL:PT1H
BEGIN:VTIMEZONE
TZID:Europe/Berlin
BEGIN:DAYLIGHT
TZOFFSETFROM:+0100
TZOFFSETTO:+0200
TZNAME:CEST
DTSTART:20260329T010000
END:DAYLIGHT
BEGIN:STANDARD
TZOFFSETFROM:+0200
TZOFFSETTO:+0100
TZNAME:CET
DTSTART:20261025T010000
END:STANDARD
END:VTIMEZONE
BEGIN:VEVENT
DTSTART;TZID=Europe/Berlin:20260307T200000
DTEND;TZID=Europe/Berlin:20260307T223000
DTSTAMP:20260421T141926
CREATED:20250728T104324Z
LAST-MODIFIED:20250729T081732Z
UID:35223-1772913600-1772922600@www.lagerhalle-osnabrueck.de
SUMMARY:Alice Köfer
DESCRIPTION:[vc_row][vc_column][vc_column_text]Alles zu meiner Zeit \nIm Dreiklang mit mir selbst – \nWir leben in einer Zeit der Optimierung. Algorithmen hören besser zu als die eigene Familie. Man fragt sich\, ob „toll“ eigentlich noch reicht\, wenn etwas auch „unfassbar krass“ sein könnte. Vor lauter Standpunkten sind schon die ersten Haltungsschäden zu vermelden.\nDoch jetzt kommt Alice ohne Agenda. Nur mit Absichten. Guten\, meistens. Aber vor allem unterhaltsamen.\nSie erzählt\, singt\, zerlegt und setzt wieder zusammen. Mit Loop\, Lust und Laune. Ihr Gedankenüberschuss bewegt sich dabei zwischen Tiefgang und Teewasser\, zwischen Strafzöllen und Straßenschildern\, zwischen Challenge und Chillen.\nIst ihr 2. Abendprogramm Kabarett? Ja. Comedy? Auch. Musik? Unbedingt. Aber vor allem: Alice.\nAlles zu ihrer Zeit. Und die ist jetzt. \n„Ausgezeichnet mit innerer Zustimmung.“ \n„Von führenden Tanzpartnern empfohlen“ \n„Alice denkt schneller als man lachen kann. Aber sie wartet höflich.“ \n  \n[/vc_column_text][/vc_column][/vc_row]Vorverkauf: 23\,20 €»Online-TicketsAbendkasse: 26\,00 € | 20\,00 € \nbestuhlt\, freie Platzwahl
URL:https://www.lagerhalle-osnabrueck.de/content/veranstaltungen/alice-koefer/
LOCATION:Spitzboden
CATEGORIES:alle Termine,Kabarett / Comedy,Startseite
ATTACH;FMTTYPE=image/jpeg:https://www.lagerhalle-osnabrueck.de/content/wp-content/uploads/2025/07/2026_03_07-alice-koefer-by-harald-hoffmann.jpg
END:VEVENT
END:VCALENDAR